BEGIN:VCALENDAR
VERSION:2.0
PRODID:-//Munkbysjön - ECPv6.15.17.1//NONSGML v1.0//EN
CALSCALE:GREGORIAN
METHOD:PUBLISH
X-WR-CALNAME:Munkbysjön
X-ORIGINAL-URL:https://munkbysjon.se
X-WR-CALDESC:Händelser för Munkbysjön
REFRESH-INTERVAL;VALUE=DURATION:PT1H
X-Robots-Tag:noindex
X-PUBLISHED-TTL:PT1H
BEGIN:VTIMEZONE
TZID:UTC
BEGIN:STANDARD
TZOFFSETFROM:+0000
TZOFFSETTO:+0000
TZNAME:UTC
DTSTART:20240101T000000
END:STANDARD
END:VTIMEZONE
BEGIN:VEVENT
DTSTART;TZID=UTC:20250222T180000
DTEND;TZID=UTC:20250222T180000
DTSTAMP:20260420T010402
CREATED:20250111T131723Z
LAST-MODIFIED:20250220T175856Z
UID:3061-1740247200-1740247200@munkbysjon.se
SUMMARY:Årsmöte Munkbysjöns intresseförening
DESCRIPTION:Munkbysjöns intresseförening kallar till årsmöte! \nLördag 22 februari kl 18.00 på vår bygdegård.\nEfter mötet bjuds alla medlemmar på god mat & dryck\, anmäl dig till Henrik 070-5341118 eller Leif 070-6915066 senast 18/2 om du vill avnjuta den delikata middagen.\nOm ni inte löst medlemskap för 2025 så kan ni göra det på plats. \nOm du har någon fråga eller vill framföra något\, kontakta då ordförande Malin tel 072-7072535 eller skicka ett mail till hej@munkbysjon.se \nVäl mött till trevligt vara-i-lag & för byns framtid// Styrelsen i Munkbysjöns intresseförening \n 
URL:https://munkbysjon.se/event/arsmote-munkbysjons-intresseforening-3/
LOCATION:Bygdegården\, Munkbysjön\, Flata\, 84177\, Sverige
CATEGORIES:Mat,Möte,Nöje,öl
ATTACH;FMTTYPE=image/jpeg:https://munkbysjon.se/wp-content/uploads/2022/02/257784282_2739007053074296_6013833640666866238_n.jpg
END:VEVENT
END:VCALENDAR